BEGIN:VCALENDAR
VERSION:2.0
PRODID:-//Village of Fontana - ECPv6.15.20//NONSGML v1.0//EN
CALSCALE:GREGORIAN
METHOD:PUBLISH
X-WR-CALNAME:Village of Fontana
X-ORIGINAL-URL:https://vi.fontana.wi.gov
X-WR-CALDESC:Events for Village of Fontana
REFRESH-INTERVAL;VALUE=DURATION:PT1H
X-Robots-Tag:noindex
X-PUBLISHED-TTL:PT1H
BEGIN:VTIMEZONE
TZID:America/Chicago
BEGIN:DAYLIGHT
TZOFFSETFROM:-0600
TZOFFSETTO:-0500
TZNAME:CDT
DTSTART:20240310T080000
END:DAYLIGHT
BEGIN:STANDARD
TZOFFSETFROM:-0500
TZOFFSETTO:-0600
TZNAME:CST
DTSTART:20241103T070000
END:STANDARD
BEGIN:DAYLIGHT
TZOFFSETFROM:-0600
TZOFFSETTO:-0500
TZNAME:CDT
DTSTART:20250309T080000
END:DAYLIGHT
BEGIN:STANDARD
TZOFFSETFROM:-0500
TZOFFSETTO:-0600
TZNAME:CST
DTSTART:20251102T070000
END:STANDARD
BEGIN:DAYLIGHT
TZOFFSETFROM:-0600
TZOFFSETTO:-0500
TZNAME:CDT
DTSTART:20260308T080000
END:DAYLIGHT
BEGIN:STANDARD
TZOFFSETFROM:-0500
TZOFFSETTO:-0600
TZNAME:CST
DTSTART:20261101T070000
END:STANDARD
END:VTIMEZONE
BEGIN:VEVENT
DTSTART;TZID=America/Chicago:20250915T080000
DTEND;TZID=America/Chicago:20250915T093000
DTSTAMP:20260424T220555
CREATED:20250423T180145Z
LAST-MODIFIED:20250423T180145Z
UID:10003795-1757923200-1757928600@vi.fontana.wi.gov
SUMMARY:Village Building Inspector Office Hours
DESCRIPTION:
URL:https://vi.fontana.wi.gov/event/village-building-inspector-office-hours-2/2025-09-15/
CATEGORIES:Community,Municipal
END:VEVENT
BEGIN:VEVENT
DTSTART;TZID=America/Chicago:20250915T163000
DTEND;TZID=America/Chicago:20250915T170000
DTSTAMP:20260424T220555
CREATED:20241210T161434Z
LAST-MODIFIED:20250909T181741Z
UID:10002572-1757953800-1757955600@vi.fontana.wi.gov
SUMMARY:Protection Committee Meeting-Cancelled
DESCRIPTION:
URL:https://vi.fontana.wi.gov/event/protection-committee-meeting-34/
LOCATION:Fontana Village Hall\, 175 Valley View Road\, Fontana\, WI\, 53125\, United States
GEO:42.5509357;-88.578128
X-APPLE-STRUCTURED-LOCATION;VALUE=URI;X-ADDRESS=Fontana Village Hall 175 Valley View Road Fontana WI 53125 United States;X-APPLE-RADIUS=500;X-TITLE=175 Valley View Road:geo:-88.578128,42.5509357
END:VEVENT
BEGIN:VEVENT
DTSTART;TZID=America/Chicago:20250915T170000
DTEND;TZID=America/Chicago:20250915T180000
DTSTAMP:20260424T220555
CREATED:20250909T161557Z
LAST-MODIFIED:20250909T161557Z
UID:10004339-1757955600-1757959200@vi.fontana.wi.gov
SUMMARY:Public Safety Building Info and Feedback Session
DESCRIPTION:
URL:https://vi.fontana.wi.gov/event/public-safety-building-info-and-feedback-session/
LOCATION:Fontana Village Hall\, 175 Valley View Road\, Fontana\, WI\, 53125\, United States
CATEGORIES:Community,Municipal
GEO:42.5509357;-88.578128
X-APPLE-STRUCTURED-LOCATION;VALUE=URI;X-ADDRESS=Fontana Village Hall 175 Valley View Road Fontana WI 53125 United States;X-APPLE-RADIUS=500;X-TITLE=175 Valley View Road:geo:-88.578128,42.5509357
END:VEVENT
END:VCALENDAR