BEGIN:VCALENDAR
VERSION:2.0
PRODID:-//Village of Fontana - ECPv6.15.20//NONSGML v1.0//EN
CALSCALE:GREGORIAN
METHOD:PUBLISH
X-WR-CALNAME:Village of Fontana
X-ORIGINAL-URL:https://vi.fontana.wi.gov
X-WR-CALDESC:Events for Village of Fontana
REFRESH-INTERVAL;VALUE=DURATION:PT1H
X-Robots-Tag:noindex
X-PUBLISHED-TTL:PT1H
BEGIN:VTIMEZONE
TZID:America/Chicago
BEGIN:DAYLIGHT
TZOFFSETFROM:-0600
TZOFFSETTO:-0500
TZNAME:CDT
DTSTART:20190310T080000
END:DAYLIGHT
BEGIN:STANDARD
TZOFFSETFROM:-0500
TZOFFSETTO:-0600
TZNAME:CST
DTSTART:20191103T070000
END:STANDARD
BEGIN:DAYLIGHT
TZOFFSETFROM:-0600
TZOFFSETTO:-0500
TZNAME:CDT
DTSTART:20200308T080000
END:DAYLIGHT
BEGIN:STANDARD
TZOFFSETFROM:-0500
TZOFFSETTO:-0600
TZNAME:CST
DTSTART:20201101T070000
END:STANDARD
BEGIN:DAYLIGHT
TZOFFSETFROM:-0600
TZOFFSETTO:-0500
TZNAME:CDT
DTSTART:20210314T080000
END:DAYLIGHT
BEGIN:STANDARD
TZOFFSETFROM:-0500
TZOFFSETTO:-0600
TZNAME:CST
DTSTART:20211107T070000
END:STANDARD
END:VTIMEZONE
BEGIN:VEVENT
DTSTART;TZID=America/Chicago:20200413T100000
DTEND;TZID=America/Chicago:20200413T100000
DTSTAMP:20260424T112020
CREATED:20180511T180305Z
LAST-MODIFIED:20200409T212450Z
UID:10001624-1586772000-1586772000@vi.fontana.wi.gov
SUMMARY:Plan Commission Staff Meeting-Cancelled
DESCRIPTION:
URL:https://vi.fontana.wi.gov/event/plan-commission-staff-meeting-2018-09-19-2020-04-13/
LOCATION:Fontana Village Hall\, 175 Valley View Road\, Fontana\, WI\, 53125\, United States
CATEGORIES:Municipal
GEO:42.5509357;-88.578128
X-APPLE-STRUCTURED-LOCATION;VALUE=URI;X-ADDRESS=Fontana Village Hall 175 Valley View Road Fontana WI 53125 United States;X-APPLE-RADIUS=500;X-TITLE=175 Valley View Road:geo:-88.578128,42.5509357
END:VEVENT
BEGIN:VEVENT
DTSTART;TZID=America/Chicago:20200414T180000
DTEND;TZID=America/Chicago:20200414T193000
DTSTAMP:20260424T112020
CREATED:20180511T174912Z
LAST-MODIFIED:20210112T002401Z
UID:10001351-1586887200-1586892600@vi.fontana.wi.gov
SUMMARY:FW/WPCC
DESCRIPTION:Committee Information
URL:https://vi.fontana.wi.gov/event/fw-wpcc-2019-10-08/2020-04-14/
LOCATION:Fontana Village Hall\, 175 Valley View Road\, Fontana\, WI\, 53125\, United States
CATEGORIES:Municipal
GEO:42.5509357;-88.578128
X-APPLE-STRUCTURED-LOCATION;VALUE=URI;X-ADDRESS=Fontana Village Hall 175 Valley View Road Fontana WI 53125 United States;X-APPLE-RADIUS=500;X-TITLE=175 Valley View Road:geo:-88.578128,42.5509357
END:VEVENT
BEGIN:VEVENT
DTSTART;TZID=America/Chicago:20200415T110000
DTEND;TZID=America/Chicago:20200415T110000
DTSTAMP:20260424T112020
CREATED:20180416T175810Z
LAST-MODIFIED:20210202T232637Z
UID:10001143-1586948400-1586948400@vi.fontana.wi.gov
SUMMARY:Library Board Meeting
DESCRIPTION:Agendas & Minutes \nBoard Information
URL:https://vi.fontana.wi.gov/event/library-board-meeting/2020-04-15/
LOCATION:Fontana Village Hall\, 175 Valley View Road\, Fontana\, WI\, 53125\, United States
CATEGORIES:Municipal
GEO:42.5509357;-88.578128
X-APPLE-STRUCTURED-LOCATION;VALUE=URI;X-ADDRESS=Fontana Village Hall 175 Valley View Road Fontana WI 53125 United States;X-APPLE-RADIUS=500;X-TITLE=175 Valley View Road:geo:-88.578128,42.5509357
END:VEVENT
BEGIN:VEVENT
DTSTART;TZID=America/Chicago:20200415T170000
DTEND;TZID=America/Chicago:20200415T170000
DTSTAMP:20260424T112021
CREATED:20180406T170630Z
LAST-MODIFIED:20200414T210347Z
UID:10001181-1586970000-1586970000@vi.fontana.wi.gov
SUMMARY:Park Commission Meeting-Cancelled
DESCRIPTION:Agendas & Minutes \nCommission Information
URL:https://vi.fontana.wi.gov/event/park-commission-meeting-2020-04-15/
LOCATION:Fontana Village Hall\, 175 Valley View Road\, Fontana\, WI\, 53125\, United States
CATEGORIES:Municipal
GEO:42.5509357;-88.578128
X-APPLE-STRUCTURED-LOCATION;VALUE=URI;X-ADDRESS=Fontana Village Hall 175 Valley View Road Fontana WI 53125 United States;X-APPLE-RADIUS=500;X-TITLE=175 Valley View Road:geo:-88.578128,42.5509357
END:VEVENT
BEGIN:VEVENT
DTSTART;TZID=America/Chicago:20200416T170000
DTEND;TZID=America/Chicago:20200416T170000
DTSTAMP:20260424T112021
CREATED:20180227T191424Z
LAST-MODIFIED:20210202T231131Z
UID:10001088-1587056400-1587056400@vi.fontana.wi.gov
SUMMARY:Fontana Municipal Court Date
DESCRIPTION:Contact Information 
URL:https://vi.fontana.wi.gov/event/fontana-municipal-court-date/2020-04-16/
LOCATION:Fontana Village Hall\, 175 Valley View Road\, Fontana\, WI\, 53125\, United States
CATEGORIES:Municipal
GEO:42.5509357;-88.578128
X-APPLE-STRUCTURED-LOCATION;VALUE=URI;X-ADDRESS=Fontana Village Hall 175 Valley View Road Fontana WI 53125 United States;X-APPLE-RADIUS=500;X-TITLE=175 Valley View Road:geo:-88.578128,42.5509357
END:VEVENT
BEGIN:VEVENT
DTSTART;TZID=America/Chicago:20200416T190000
DTEND;TZID=America/Chicago:20200416T190000
DTSTAMP:20260424T112021
CREATED:20180511T181107Z
LAST-MODIFIED:20210202T230031Z
UID:10001318-1587063600-1587063600@vi.fontana.wi.gov
SUMMARY:GLEA Meeting
DESCRIPTION:
URL:https://vi.fontana.wi.gov/event/glea-meeting/2020-04-16/
LOCATION:Fontana Village Hall\, 175 Valley View Road\, Fontana\, WI\, 53125\, United States
CATEGORIES:Municipal
GEO:42.5509357;-88.578128
X-APPLE-STRUCTURED-LOCATION;VALUE=URI;X-ADDRESS=Fontana Village Hall 175 Valley View Road Fontana WI 53125 United States;X-APPLE-RADIUS=500;X-TITLE=175 Valley View Road:geo:-88.578128,42.5509357
END:VEVENT
BEGIN:VEVENT
DTSTART;TZID=America/Chicago:20200417T100000
DTEND;TZID=America/Chicago:20200417T140000
DTSTAMP:20260424T112021
CREATED:20200103T143649Z
LAST-MODIFIED:20200414T181312Z
UID:10001412-1587117600-1587132000@vi.fontana.wi.gov
SUMMARY:Assessor telephone appointments
DESCRIPTION:Accurate Appraisal will hold telephone appointments from 10 am – 2 pm on Friday\, April 17\, 2020. To set up an appointment log on to www.accurateassessor.com and click the online appointments link on the top of the screen\, then choose your location (Fontana)\, choose your telephone office hour date and time\, then enter your personal information including phone number you wish to be contacted at. An assessor will call you within 15 minutes of your scheduled timeslot. If you do not have internet access\, please call Accurate Appraisal at 1-800-770-3927 to schedule a telephone appointment.
URL:https://vi.fontana.wi.gov/event/assessor-office-hours-3/
LOCATION:Fontana Village Hall\, 175 Valley View Road\, Fontana\, WI\, 53125\, United States
GEO:42.5509357;-88.578128
X-APPLE-STRUCTURED-LOCATION;VALUE=URI;X-ADDRESS=Fontana Village Hall 175 Valley View Road Fontana WI 53125 United States;X-APPLE-RADIUS=500;X-TITLE=175 Valley View Road:geo:-88.578128,42.5509357
END:VEVENT
BEGIN:VEVENT
DTSTART;VALUE=DATE:20200418
DTEND;VALUE=DATE:20200419
DTSTAMP:20260424T112021
CREATED:20200207T175113Z
LAST-MODIFIED:20200319T191008Z
UID:10001675-1587168000-1587254399@vi.fontana.wi.gov
SUMMARY:Big Foot Recreation Doggie Egg Hunt - Cancelled
DESCRIPTION:
URL:https://vi.fontana.wi.gov/event/big-foot-recreation-doggie-egg-hunt-duck-pond/
END:VEVENT
END:VCALENDAR