BEGIN:VCALENDAR
VERSION:2.0
PRODID:-//Village of Fontana - ECPv6.15.20//NONSGML v1.0//EN
CALSCALE:GREGORIAN
METHOD:PUBLISH
X-ORIGINAL-URL:https://vi.fontana.wi.gov
X-WR-CALDESC:Events for Village of Fontana
REFRESH-INTERVAL;VALUE=DURATION:PT1H
X-Robots-Tag:noindex
X-PUBLISHED-TTL:PT1H
BEGIN:VTIMEZONE
TZID:America/Chicago
BEGIN:DAYLIGHT
TZOFFSETFROM:-0600
TZOFFSETTO:-0500
TZNAME:CDT
DTSTART:20200308T080000
END:DAYLIGHT
BEGIN:STANDARD
TZOFFSETFROM:-0500
TZOFFSETTO:-0600
TZNAME:CST
DTSTART:20201101T070000
END:STANDARD
BEGIN:DAYLIGHT
TZOFFSETFROM:-0600
TZOFFSETTO:-0500
TZNAME:CDT
DTSTART:20210314T080000
END:DAYLIGHT
BEGIN:STANDARD
TZOFFSETFROM:-0500
TZOFFSETTO:-0600
TZNAME:CST
DTSTART:20211107T070000
END:STANDARD
BEGIN:DAYLIGHT
TZOFFSETFROM:-0600
TZOFFSETTO:-0500
TZNAME:CDT
DTSTART:20220313T080000
END:DAYLIGHT
BEGIN:STANDARD
TZOFFSETFROM:-0500
TZOFFSETTO:-0600
TZNAME:CST
DTSTART:20221106T070000
END:STANDARD
END:VTIMEZONE
BEGIN:VEVENT
DTSTART;TZID=America/Chicago:20210607T170000
DTEND;TZID=America/Chicago:20210607T180000
DTSTAMP:20260425T054939
CREATED:20210201T195649Z
LAST-MODIFIED:20210208T145450Z
UID:10001764-1623085200-1623088800@vi.fontana.wi.gov
SUMMARY:Village Board Meeting
DESCRIPTION:Agendas & Minutes \nBoard Contact Information
URL:https://vi.fontana.wi.gov/event/village-board-meeting-2/2021-06-07/
CATEGORIES:Municipal
END:VEVENT
BEGIN:VEVENT
DTSTART;TZID=America/Chicago:20210609T090000
DTEND;TZID=America/Chicago:20210609T100000
DTSTAMP:20260425T054939
CREATED:20210208T145929Z
LAST-MODIFIED:20210208T150705Z
UID:10001826-1623229200-1623232800@vi.fontana.wi.gov
SUMMARY:GLLEA Board of Directors Meeting
DESCRIPTION:
URL:https://vi.fontana.wi.gov/event/gllea-board-of-directors-meeting-3/2021-06-09/
END:VEVENT
BEGIN:VEVENT
DTSTART;TZID=America/Chicago:20210610T170000
DTEND;TZID=America/Chicago:20210610T170000
DTSTAMP:20260425T054939
CREATED:20210202T231910Z
LAST-MODIFIED:20210430T162837Z
UID:10001792-1623344400-1623344400@vi.fontana.wi.gov
SUMMARY:Fontana Municipal Court Date
DESCRIPTION:Contact Information
URL:https://vi.fontana.wi.gov/event/fontana-municipal-court-date-2-2021-06-03/
LOCATION:Fontana Village Hall\, 175 Valley View Road\, Fontana\, WI\, 53125\, United States
CATEGORIES:Municipal
GEO:42.5509357;-88.578128
X-APPLE-STRUCTURED-LOCATION;VALUE=URI;X-ADDRESS=Fontana Village Hall 175 Valley View Road Fontana WI 53125 United States;X-APPLE-RADIUS=500;X-TITLE=175 Valley View Road:geo:-88.578128,42.5509357
END:VEVENT
END:VCALENDAR