BEGIN:VCALENDAR
VERSION:2.0
PRODID:-//Village of Fontana - ECPv6.15.20//NONSGML v1.0//EN
CALSCALE:GREGORIAN
METHOD:PUBLISH
X-ORIGINAL-URL:https://vi.fontana.wi.gov
X-WR-CALDESC:Events for Village of Fontana
REFRESH-INTERVAL;VALUE=DURATION:PT1H
X-Robots-Tag:noindex
X-PUBLISHED-TTL:PT1H
BEGIN:VTIMEZONE
TZID:America/Chicago
BEGIN:DAYLIGHT
TZOFFSETFROM:-0600
TZOFFSETTO:-0500
TZNAME:CDT
DTSTART:20200308T080000
END:DAYLIGHT
BEGIN:STANDARD
TZOFFSETFROM:-0500
TZOFFSETTO:-0600
TZNAME:CST
DTSTART:20201101T070000
END:STANDARD
BEGIN:DAYLIGHT
TZOFFSETFROM:-0600
TZOFFSETTO:-0500
TZNAME:CDT
DTSTART:20210314T080000
END:DAYLIGHT
BEGIN:STANDARD
TZOFFSETFROM:-0500
TZOFFSETTO:-0600
TZNAME:CST
DTSTART:20211107T070000
END:STANDARD
BEGIN:DAYLIGHT
TZOFFSETFROM:-0600
TZOFFSETTO:-0500
TZNAME:CDT
DTSTART:20220313T080000
END:DAYLIGHT
BEGIN:STANDARD
TZOFFSETFROM:-0500
TZOFFSETTO:-0600
TZNAME:CST
DTSTART:20221106T070000
END:STANDARD
END:VTIMEZONE
BEGIN:VEVENT
DTSTART;TZID=America/Chicago:20211011T100000
DTEND;TZID=America/Chicago:20211011T110000
DTSTAMP:20260425T210922
CREATED:20210201T201220Z
LAST-MODIFIED:20210513T204335Z
UID:10001473-1633946400-1633950000@vi.fontana.wi.gov
SUMMARY:Plan Commission Staff Meeting
DESCRIPTION:
URL:https://vi.fontana.wi.gov/event/plan-committee-staff-meeting-2021-04-12/2021-10-11/
LOCATION:Fontana Village Hall\, 175 Valley View Road\, Fontana\, WI\, 53125\, United States
CATEGORIES:Municipal
GEO:42.5509357;-88.578128
X-APPLE-STRUCTURED-LOCATION;VALUE=URI;X-ADDRESS=Fontana Village Hall 175 Valley View Road Fontana WI 53125 United States;X-APPLE-RADIUS=500;X-TITLE=175 Valley View Road:geo:-88.578128,42.5509357
END:VEVENT
BEGIN:VEVENT
DTSTART;TZID=America/Chicago:20211013T090000
DTEND;TZID=America/Chicago:20211013T100000
DTSTAMP:20260425T210922
CREATED:20210208T145929Z
LAST-MODIFIED:20211006T131506Z
UID:10001830-1634115600-1634119200@vi.fontana.wi.gov
SUMMARY:GLLEA Board of Directors Meeting-Cancelled
DESCRIPTION:
URL:https://vi.fontana.wi.gov/event/gllea-board-of-directors-meeting-3-2021-10-13/
END:VEVENT
BEGIN:VEVENT
DTSTART;TZID=America/Chicago:20211014T170000
DTEND;TZID=America/Chicago:20211014T170000
DTSTAMP:20260425T210922
CREATED:20210202T231910Z
LAST-MODIFIED:20210430T163607Z
UID:10001796-1634230800-1634230800@vi.fontana.wi.gov
SUMMARY:Fontana Municipal Court Date
DESCRIPTION:Contact Information
URL:https://vi.fontana.wi.gov/event/fontana-municipal-court-date-2-2021-10-07/
LOCATION:Fontana Village Hall\, 175 Valley View Road\, Fontana\, WI\, 53125\, United States
CATEGORIES:Municipal
GEO:42.5509357;-88.578128
X-APPLE-STRUCTURED-LOCATION;VALUE=URI;X-ADDRESS=Fontana Village Hall 175 Valley View Road Fontana WI 53125 United States;X-APPLE-RADIUS=500;X-TITLE=175 Valley View Road:geo:-88.578128,42.5509357
END:VEVENT
BEGIN:VEVENT
DTSTART;TZID=America/Chicago:20211015T140000
DTEND;TZID=America/Chicago:20211015T140000
DTSTAMP:20260425T210922
CREATED:20211015T144121Z
LAST-MODIFIED:20211015T144121Z
UID:10001872-1634306400-1634306400@vi.fontana.wi.gov
SUMMARY:HR Committee Meeting
DESCRIPTION:
URL:https://vi.fontana.wi.gov/event/hr-committee-meeting-7/
END:VEVENT
BEGIN:VEVENT
DTSTART;TZID=America/Chicago:20211015T150000
DTEND;TZID=America/Chicago:20211015T160000
DTSTAMP:20260425T210922
CREATED:20211007T181345Z
LAST-MODIFIED:20211014T165448Z
UID:10001870-1634310000-1634313600@vi.fontana.wi.gov
SUMMARY:Public Works Committee-Cancelled
DESCRIPTION:
URL:https://vi.fontana.wi.gov/event/public-works-committee-10/
END:VEVENT
END:VCALENDAR