BEGIN:VCALENDAR
VERSION:2.0
PRODID:-//Village of Fontana - ECPv6.15.20//NONSGML v1.0//EN
CALSCALE:GREGORIAN
METHOD:PUBLISH
X-WR-CALNAME:Village of Fontana
X-ORIGINAL-URL:https://vi.fontana.wi.gov
X-WR-CALDESC:Events for Village of Fontana
REFRESH-INTERVAL;VALUE=DURATION:PT1H
X-Robots-Tag:noindex
X-PUBLISHED-TTL:PT1H
BEGIN:VTIMEZONE
TZID:America/Chicago
BEGIN:DAYLIGHT
TZOFFSETFROM:-0600
TZOFFSETTO:-0500
TZNAME:CDT
DTSTART:20220313T080000
END:DAYLIGHT
BEGIN:STANDARD
TZOFFSETFROM:-0500
TZOFFSETTO:-0600
TZNAME:CST
DTSTART:20221106T070000
END:STANDARD
BEGIN:DAYLIGHT
TZOFFSETFROM:-0600
TZOFFSETTO:-0500
TZNAME:CDT
DTSTART:20230312T080000
END:DAYLIGHT
BEGIN:STANDARD
TZOFFSETFROM:-0500
TZOFFSETTO:-0600
TZNAME:CST
DTSTART:20231105T070000
END:STANDARD
BEGIN:DAYLIGHT
TZOFFSETFROM:-0600
TZOFFSETTO:-0500
TZNAME:CDT
DTSTART:20240310T080000
END:DAYLIGHT
BEGIN:STANDARD
TZOFFSETFROM:-0500
TZOFFSETTO:-0600
TZNAME:CST
DTSTART:20241103T070000
END:STANDARD
END:VTIMEZONE
BEGIN:VEVENT
DTSTART;TZID=America/Chicago:20231218T160000
DTEND;TZID=America/Chicago:20231218T160000
DTSTAMP:20260422T233053
CREATED:20221014T145648Z
LAST-MODIFIED:20231215T173605Z
UID:10002041-1702915200-1702915200@vi.fontana.wi.gov
SUMMARY:Protection Committee Meeting
DESCRIPTION:
URL:https://vi.fontana.wi.gov/event/protection-committee-meeting-13/
END:VEVENT
BEGIN:VEVENT
DTSTART;TZID=America/Chicago:20231218T170000
DTEND;TZID=America/Chicago:20231218T170000
DTSTAMP:20260422T233053
CREATED:20221213T194239Z
LAST-MODIFIED:20230324T160538Z
UID:10001715-1702918800-1702918800@vi.fontana.wi.gov
SUMMARY:Plan Commission Meeting
DESCRIPTION:
URL:https://vi.fontana.wi.gov/event/plan-commission-meeting-4/2023-12-18/
END:VEVENT
BEGIN:VEVENT
DTSTART;TZID=America/Chicago:20231220T110000
DTEND;TZID=America/Chicago:20231220T113000
DTSTAMP:20260422T233053
CREATED:20230111T144511Z
LAST-MODIFIED:20230111T144511Z
UID:10002057-1703070000-1703071800@vi.fontana.wi.gov
SUMMARY:Library Board Meeting
DESCRIPTION:
URL:https://vi.fontana.wi.gov/event/library-board-meeting-11/2023-12-20/
END:VEVENT
BEGIN:VEVENT
DTSTART;TZID=America/Chicago:20231220T170000
DTEND;TZID=America/Chicago:20231220T170000
DTSTAMP:20260422T233053
CREATED:20231128T152619Z
LAST-MODIFIED:20231128T152634Z
UID:10001728-1703091600-1703091600@vi.fontana.wi.gov
SUMMARY:Park Commission Meeting - Cancelled
DESCRIPTION:
URL:https://vi.fontana.wi.gov/event/park-commission-meeting-5-4/
END:VEVENT
BEGIN:VEVENT
DTSTART;TZID=America/Chicago:20231221T100000
DTEND;TZID=America/Chicago:20231221T110000
DTSTAMP:20260422T233053
CREATED:20231207T154222Z
LAST-MODIFIED:20231207T154222Z
UID:10002137-1703152800-1703156400@vi.fontana.wi.gov
SUMMARY:PFC Meeting
DESCRIPTION:
URL:https://vi.fontana.wi.gov/event/pfc-meeting-3/
LOCATION:Fontana Village Hall\, 175 Valley View Road\, Fontana\, WI\, 53125\, United States
GEO:42.5509357;-88.578128
X-APPLE-STRUCTURED-LOCATION;VALUE=URI;X-ADDRESS=Fontana Village Hall 175 Valley View Road Fontana WI 53125 United States;X-APPLE-RADIUS=500;X-TITLE=175 Valley View Road:geo:-88.578128,42.5509357
END:VEVENT
END:VCALENDAR