BEGIN:VCALENDAR
VERSION:2.0
PRODID:-//Village of Fontana - ECPv6.15.20//NONSGML v1.0//EN
CALSCALE:GREGORIAN
METHOD:PUBLISH
X-WR-CALNAME:Village of Fontana
X-ORIGINAL-URL:https://vi.fontana.wi.gov
X-WR-CALDESC:Events for Village of Fontana
REFRESH-INTERVAL;VALUE=DURATION:PT1H
X-Robots-Tag:noindex
X-PUBLISHED-TTL:PT1H
BEGIN:VTIMEZONE
TZID:America/Chicago
BEGIN:DAYLIGHT
TZOFFSETFROM:-0600
TZOFFSETTO:-0500
TZNAME:CDT
DTSTART:20230312T080000
END:DAYLIGHT
BEGIN:STANDARD
TZOFFSETFROM:-0500
TZOFFSETTO:-0600
TZNAME:CST
DTSTART:20231105T070000
END:STANDARD
BEGIN:DAYLIGHT
TZOFFSETFROM:-0600
TZOFFSETTO:-0500
TZNAME:CDT
DTSTART:20240310T080000
END:DAYLIGHT
BEGIN:STANDARD
TZOFFSETFROM:-0500
TZOFFSETTO:-0600
TZNAME:CST
DTSTART:20241103T070000
END:STANDARD
BEGIN:DAYLIGHT
TZOFFSETFROM:-0600
TZOFFSETTO:-0500
TZNAME:CDT
DTSTART:20250309T080000
END:DAYLIGHT
BEGIN:STANDARD
TZOFFSETFROM:-0500
TZOFFSETTO:-0600
TZNAME:CST
DTSTART:20251102T070000
END:STANDARD
END:VTIMEZONE
BEGIN:VEVENT
DTSTART;TZID=America/Chicago:20240909T170000
DTEND;TZID=America/Chicago:20240909T180000
DTSTAMP:20260424T112030
CREATED:20240103T165030Z
LAST-MODIFIED:20240103T165030Z
UID:10002180-1725901200-1725904800@vi.fontana.wi.gov
SUMMARY:Village Board Meeting
DESCRIPTION:
URL:https://vi.fontana.wi.gov/event/village-board-meeting-6/2024-09-09/
LOCATION:Fontana Village Hall\, 175 Valley View Road\, Fontana\, WI\, 53125\, United States
GEO:42.5509357;-88.578128
X-APPLE-STRUCTURED-LOCATION;VALUE=URI;X-ADDRESS=Fontana Village Hall 175 Valley View Road Fontana WI 53125 United States;X-APPLE-RADIUS=500;X-TITLE=175 Valley View Road:geo:-88.578128,42.5509357
END:VEVENT
BEGIN:VEVENT
DTSTART;TZID=America/Chicago:20240911T173000
DTEND;TZID=America/Chicago:20240911T183000
DTSTAMP:20260424T112030
CREATED:20240814T202024Z
LAST-MODIFIED:20240814T202024Z
UID:10002484-1726075800-1726079400@vi.fontana.wi.gov
SUMMARY:Joint Village Board Meeting - Williams Bay
DESCRIPTION:
URL:https://vi.fontana.wi.gov/event/joint-village-board-meeting-williams-bay/
LOCATION:Fontana Village Hall\, 175 Valley View Road\, Fontana\, WI\, 53125\, United States
GEO:42.5509357;-88.578128
X-APPLE-STRUCTURED-LOCATION;VALUE=URI;X-ADDRESS=Fontana Village Hall 175 Valley View Road Fontana WI 53125 United States;X-APPLE-RADIUS=500;X-TITLE=175 Valley View Road:geo:-88.578128,42.5509357
END:VEVENT
BEGIN:VEVENT
DTSTART;TZID=America/Chicago:20240912T170000
DTEND;TZID=America/Chicago:20240912T170000
DTSTAMP:20260424T112030
CREATED:20240103T164413Z
LAST-MODIFIED:20240103T164413Z
UID:10002166-1726160400-1726160400@vi.fontana.wi.gov
SUMMARY:Municipal Court
DESCRIPTION:
URL:https://vi.fontana.wi.gov/event/municipal-court-61/
END:VEVENT
END:VCALENDAR