BEGIN:VCALENDAR
VERSION:2.0
PRODID:-//Village of Fontana - ECPv6.15.20//NONSGML v1.0//EN
CALSCALE:GREGORIAN
METHOD:PUBLISH
X-WR-CALNAME:Village of Fontana
X-ORIGINAL-URL:https://vi.fontana.wi.gov
X-WR-CALDESC:Events for Village of Fontana
REFRESH-INTERVAL;VALUE=DURATION:PT1H
X-Robots-Tag:noindex
X-PUBLISHED-TTL:PT1H
BEGIN:VTIMEZONE
TZID:America/Chicago
BEGIN:DAYLIGHT
TZOFFSETFROM:-0600
TZOFFSETTO:-0500
TZNAME:CDT
DTSTART:20240310T080000
END:DAYLIGHT
BEGIN:STANDARD
TZOFFSETFROM:-0500
TZOFFSETTO:-0600
TZNAME:CST
DTSTART:20241103T070000
END:STANDARD
BEGIN:DAYLIGHT
TZOFFSETFROM:-0600
TZOFFSETTO:-0500
TZNAME:CDT
DTSTART:20250309T080000
END:DAYLIGHT
BEGIN:STANDARD
TZOFFSETFROM:-0500
TZOFFSETTO:-0600
TZNAME:CST
DTSTART:20251102T070000
END:STANDARD
BEGIN:DAYLIGHT
TZOFFSETFROM:-0600
TZOFFSETTO:-0500
TZNAME:CDT
DTSTART:20260308T080000
END:DAYLIGHT
BEGIN:STANDARD
TZOFFSETFROM:-0500
TZOFFSETTO:-0600
TZNAME:CST
DTSTART:20261101T070000
END:STANDARD
END:VTIMEZONE
BEGIN:VEVENT
DTSTART;TZID=America/Chicago:20250811T080000
DTEND;TZID=America/Chicago:20250811T093000
DTSTAMP:20260421T173945
CREATED:20250423T180145Z
LAST-MODIFIED:20250423T180145Z
UID:10003790-1754899200-1754904600@vi.fontana.wi.gov
SUMMARY:Village Building Inspector Office Hours
DESCRIPTION:
URL:https://vi.fontana.wi.gov/event/village-building-inspector-office-hours-2/2025-08-11/
CATEGORIES:Community,Municipal
END:VEVENT
BEGIN:VEVENT
DTSTART;TZID=America/Chicago:20250811T170000
DTEND;TZID=America/Chicago:20250811T180000
DTSTAMP:20260421T173945
CREATED:20240103T165030Z
LAST-MODIFIED:20240103T165030Z
UID:10002191-1754931600-1754935200@vi.fontana.wi.gov
SUMMARY:Village Board Meeting
DESCRIPTION:
URL:https://vi.fontana.wi.gov/event/village-board-meeting-6/2025-08-11/
LOCATION:Fontana Village Hall\, 175 Valley View Road\, Fontana\, WI\, 53125\, United States
GEO:42.5509357;-88.578128
X-APPLE-STRUCTURED-LOCATION;VALUE=URI;X-ADDRESS=Fontana Village Hall 175 Valley View Road Fontana WI 53125 United States;X-APPLE-RADIUS=500;X-TITLE=175 Valley View Road:geo:-88.578128,42.5509357
END:VEVENT
BEGIN:VEVENT
DTSTART;TZID=America/Chicago:20250812T160000
DTEND;TZID=America/Chicago:20250812T170000
DTSTAMP:20260421T173945
CREATED:20250723T211601Z
LAST-MODIFIED:20250723T212434Z
UID:10004321-1755014400-1755018000@vi.fontana.wi.gov
SUMMARY:Joint Emergency Services Committee Meeting in Fontana
DESCRIPTION:
URL:https://vi.fontana.wi.gov/event/joint-emergency-services-committee-meeting/
LOCATION:Fontana Village Hall\, 175 Valley View Road\, Fontana\, WI\, 53125\, United States
CATEGORIES:Community,Municipal
GEO:42.5509357;-88.578128
X-APPLE-STRUCTURED-LOCATION;VALUE=URI;X-ADDRESS=Fontana Village Hall 175 Valley View Road Fontana WI 53125 United States;X-APPLE-RADIUS=500;X-TITLE=175 Valley View Road:geo:-88.578128,42.5509357
END:VEVENT
BEGIN:VEVENT
DTSTART;TZID=America/Chicago:20250813T080000
DTEND;TZID=America/Chicago:20250813T093000
DTSTAMP:20260421T173945
CREATED:20250423T175935Z
LAST-MODIFIED:20250423T175935Z
UID:10003703-1755072000-1755077400@vi.fontana.wi.gov
SUMMARY:Village Building Inspector Office Hours
DESCRIPTION:
URL:https://vi.fontana.wi.gov/event/village-building-inspector-office-hours/2025-08-13/
CATEGORIES:Community,Municipal
END:VEVENT
BEGIN:VEVENT
DTSTART;TZID=America/Chicago:20250813T090000
DTEND;TZID=America/Chicago:20250813T100000
DTSTAMP:20260421T173945
CREATED:20250723T211918Z
LAST-MODIFIED:20250723T211918Z
UID:10004322-1755075600-1755079200@vi.fontana.wi.gov
SUMMARY:GLLEA Monthly Meeting of the Board of Directors
DESCRIPTION:
URL:https://vi.fontana.wi.gov/event/gllea-monthly-meeting-of-the-board-of-directors/
CATEGORIES:Community,Municipal
END:VEVENT
BEGIN:VEVENT
DTSTART;TZID=America/Chicago:20250813T120000
DTEND;TZID=America/Chicago:20250813T160000
DTSTAMP:20260421T173945
CREATED:20250423T180356Z
LAST-MODIFIED:20251212T165608Z
UID:10003879-1755086400-1755100800@vi.fontana.wi.gov
SUMMARY:Village Zoning & Code Enforcement Office Hours
DESCRIPTION:
URL:https://vi.fontana.wi.gov/event/village-zoning-code-enforcement-office-hours/2025-08-13/
CATEGORIES:Community,Municipal
END:VEVENT
BEGIN:VEVENT
DTSTART;TZID=America/Chicago:20250814T120000
DTEND;TZID=America/Chicago:20250814T160000
DTSTAMP:20260421T173945
CREATED:20250423T162027Z
LAST-MODIFIED:20250423T162027Z
UID:10003639-1755172800-1755187200@vi.fontana.wi.gov
SUMMARY:Village Hall Closed to Public at 12pm noon
DESCRIPTION:
URL:https://vi.fontana.wi.gov/event/village-hall-closed-to-public-at-12pm-noon/2025-08-14/
CATEGORIES:Community,Municipal
END:VEVENT
BEGIN:VEVENT
DTSTART;TZID=America/Chicago:20250814T160000
DTEND;TZID=America/Chicago:20250814T213000
DTSTAMP:20260421T173945
CREATED:20250423T165013Z
LAST-MODIFIED:20250528T211417Z
UID:10003674-1755187200-1755207000@vi.fontana.wi.gov
SUMMARY:Music in the Park at Reid Park Gazebo
DESCRIPTION:
URL:https://vi.fontana.wi.gov/event/music-in-the-park-at-reid-park-gazebo-2/
CATEGORIES:Community,Municipal
END:VEVENT
BEGIN:VEVENT
DTSTART;TZID=America/Chicago:20250814T170000
DTEND;TZID=America/Chicago:20250814T170000
DTSTAMP:20260421T173945
CREATED:20241210T160231Z
LAST-MODIFIED:20241210T160231Z
UID:10002556-1755190800-1755190800@vi.fontana.wi.gov
SUMMARY:Municipal Court
DESCRIPTION:
URL:https://vi.fontana.wi.gov/event/municipal-court-80/
LOCATION:Fontana Village Hall\, 175 Valley View Road\, Fontana\, WI\, 53125\, United States
GEO:42.5509357;-88.578128
X-APPLE-STRUCTURED-LOCATION;VALUE=URI;X-ADDRESS=Fontana Village Hall 175 Valley View Road Fontana WI 53125 United States;X-APPLE-RADIUS=500;X-TITLE=175 Valley View Road:geo:-88.578128,42.5509357
END:VEVENT
BEGIN:VEVENT
DTSTART;TZID=America/Chicago:20250815T080000
DTEND;TZID=America/Chicago:20250815T110000
DTSTAMP:20260421T173945
CREATED:20250423T180503Z
LAST-MODIFIED:20250423T180503Z
UID:10003915-1755244800-1755255600@vi.fontana.wi.gov
SUMMARY:Village Zoning & Code Enforcement Office Hours
DESCRIPTION:
URL:https://vi.fontana.wi.gov/event/village-zoning-code-enforcement-office-hours-2/2025-08-15/
CATEGORIES:Community,Municipal
END:VEVENT
END:VCALENDAR