BEGIN:VCALENDAR
VERSION:2.0
PRODID:-//Village of Fontana - ECPv6.15.20//NONSGML v1.0//EN
CALSCALE:GREGORIAN
METHOD:PUBLISH
X-WR-CALNAME:Village of Fontana
X-ORIGINAL-URL:https://vi.fontana.wi.gov
X-WR-CALDESC:Events for Village of Fontana
REFRESH-INTERVAL;VALUE=DURATION:PT1H
X-Robots-Tag:noindex
X-PUBLISHED-TTL:PT1H
BEGIN:VTIMEZONE
TZID:America/Chicago
BEGIN:DAYLIGHT
TZOFFSETFROM:-0600
TZOFFSETTO:-0500
TZNAME:CDT
DTSTART:20240310T080000
END:DAYLIGHT
BEGIN:STANDARD
TZOFFSETFROM:-0500
TZOFFSETTO:-0600
TZNAME:CST
DTSTART:20241103T070000
END:STANDARD
BEGIN:DAYLIGHT
TZOFFSETFROM:-0600
TZOFFSETTO:-0500
TZNAME:CDT
DTSTART:20250309T080000
END:DAYLIGHT
BEGIN:STANDARD
TZOFFSETFROM:-0500
TZOFFSETTO:-0600
TZNAME:CST
DTSTART:20251102T070000
END:STANDARD
BEGIN:DAYLIGHT
TZOFFSETFROM:-0600
TZOFFSETTO:-0500
TZNAME:CDT
DTSTART:20260308T080000
END:DAYLIGHT
BEGIN:STANDARD
TZOFFSETFROM:-0500
TZOFFSETTO:-0600
TZNAME:CST
DTSTART:20261101T070000
END:STANDARD
END:VTIMEZONE
BEGIN:VEVENT
DTSTART;TZID=America/Chicago:20250901T080000
DTEND;TZID=America/Chicago:20250901T093000
DTSTAMP:20260420T055952
CREATED:20250423T180145Z
LAST-MODIFIED:20250423T180145Z
UID:10003793-1756713600-1756719000@vi.fontana.wi.gov
SUMMARY:Village Building Inspector Office Hours
DESCRIPTION:
URL:https://vi.fontana.wi.gov/event/village-building-inspector-office-hours-2/2025-09-01/
CATEGORIES:Community,Municipal
END:VEVENT
BEGIN:VEVENT
DTSTART;TZID=America/Chicago:20250901T080000
DTEND;TZID=America/Chicago:20250901T170000
DTSTAMP:20260420T055952
CREATED:20250422T212914Z
LAST-MODIFIED:20250422T213029Z
UID:10003606-1756713600-1756746000@vi.fontana.wi.gov
SUMMARY:Labor Day Village Hall Closed
DESCRIPTION:
URL:https://vi.fontana.wi.gov/event/labor-day-village-hall-closed/
CATEGORIES:Community,Municipal
END:VEVENT
BEGIN:VEVENT
DTSTART;TZID=America/Chicago:20250902T080000
DTEND;TZID=America/Chicago:20250902T080000
DTSTAMP:20260420T055952
CREATED:20250423T164620Z
LAST-MODIFIED:20250423T164620Z
UID:10003672-1756800000-1756800000@vi.fontana.wi.gov
SUMMARY:Fontana Beach Closed for the Season
DESCRIPTION:
URL:https://vi.fontana.wi.gov/event/fontana-beach-closed-for-the-season/
CATEGORIES:Community,Municipal
END:VEVENT
BEGIN:VEVENT
DTSTART;TZID=America/Chicago:20250903T080000
DTEND;TZID=America/Chicago:20250903T093000
DTSTAMP:20260420T055952
CREATED:20250423T175935Z
LAST-MODIFIED:20250423T175935Z
UID:10003706-1756886400-1756891800@vi.fontana.wi.gov
SUMMARY:Village Building Inspector Office Hours
DESCRIPTION:
URL:https://vi.fontana.wi.gov/event/village-building-inspector-office-hours/2025-09-03/
CATEGORIES:Community,Municipal
END:VEVENT
BEGIN:VEVENT
DTSTART;TZID=America/Chicago:20250903T120000
DTEND;TZID=America/Chicago:20250903T160000
DTSTAMP:20260420T055952
CREATED:20250423T180356Z
LAST-MODIFIED:20251212T165608Z
UID:10003882-1756900800-1756915200@vi.fontana.wi.gov
SUMMARY:Village Zoning & Code Enforcement Office Hours
DESCRIPTION:
URL:https://vi.fontana.wi.gov/event/village-zoning-code-enforcement-office-hours/2025-09-03/
CATEGORIES:Community,Municipal
END:VEVENT
BEGIN:VEVENT
DTSTART;TZID=America/Chicago:20250903T160000
DTEND;TZID=America/Chicago:20250903T170000
DTSTAMP:20260420T055952
CREATED:20250818T142848Z
LAST-MODIFIED:20250818T142848Z
UID:10004333-1756915200-1756918800@vi.fontana.wi.gov
SUMMARY:Lakefront & Harbor Committee
DESCRIPTION:
URL:https://vi.fontana.wi.gov/event/lakefront-harbor-committee-21/
END:VEVENT
BEGIN:VEVENT
DTSTART;TZID=America/Chicago:20250904T120000
DTEND;TZID=America/Chicago:20250904T160000
DTSTAMP:20260420T055952
CREATED:20250423T162027Z
LAST-MODIFIED:20250423T162027Z
UID:10003642-1756987200-1757001600@vi.fontana.wi.gov
SUMMARY:Village Hall Closed to Public at 12pm noon
DESCRIPTION:
URL:https://vi.fontana.wi.gov/event/village-hall-closed-to-public-at-12pm-noon/2025-09-04/
CATEGORIES:Community,Municipal
END:VEVENT
BEGIN:VEVENT
DTSTART;TZID=America/Chicago:20250905T080000
DTEND;TZID=America/Chicago:20250905T110000
DTSTAMP:20260420T055952
CREATED:20250423T180503Z
LAST-MODIFIED:20250423T180503Z
UID:10003918-1757059200-1757070000@vi.fontana.wi.gov
SUMMARY:Village Zoning & Code Enforcement Office Hours
DESCRIPTION:
URL:https://vi.fontana.wi.gov/event/village-zoning-code-enforcement-office-hours-2/2025-09-05/
CATEGORIES:Community,Municipal
END:VEVENT
BEGIN:VEVENT
DTSTART;TZID=America/Chicago:20250906T080000
DTEND;TZID=America/Chicago:20250906T200000
DTSTAMP:20260420T055952
CREATED:20250828T161429Z
LAST-MODIFIED:20250828T161445Z
UID:10004336-1757145600-1757188800@vi.fontana.wi.gov
SUMMARY:Duck Pond Pavilion Reserved
DESCRIPTION:
URL:https://vi.fontana.wi.gov/event/duck-pond-pavilion-reserved-3/
CATEGORIES:Community
END:VEVENT
BEGIN:VEVENT
DTSTART;TZID=America/Chicago:20250906T090000
DTEND;TZID=America/Chicago:20250906T180000
DTSTAMP:20260420T055952
CREATED:20250811T135030Z
LAST-MODIFIED:20250828T161144Z
UID:10004327-1757149200-1757181600@vi.fontana.wi.gov
SUMMARY:Reid Park Gazebo Reservation
DESCRIPTION:
URL:https://vi.fontana.wi.gov/event/reid-park-gazebo-reservation-tentative/
CATEGORIES:Community
END:VEVENT
END:VCALENDAR